BEGIN:VCALENDAR
VERSION:2.0
PRODID:-//Vancouver Foodie Pulse - ECPv6.13.2.1//NONSGML v1.0//EN
CALSCALE:GREGORIAN
METHOD:PUBLISH
X-WR-CALNAME:Vancouver Foodie Pulse
X-ORIGINAL-URL:https://vancouver.foodiepulse.com
X-WR-CALDESC:Events for Vancouver Foodie Pulse
REFRESH-INTERVAL;VALUE=DURATION:PT1H
X-Robots-Tag:noindex
X-PUBLISHED-TTL:PT1H
BEGIN:VTIMEZONE
TZID:America/Vancouver
BEGIN:DAYLIGHT
TZOFFSETFROM:-0800
TZOFFSETTO:-0700
TZNAME:PDT
DTSTART:20160313T100000
END:DAYLIGHT
BEGIN:STANDARD
TZOFFSETFROM:-0700
TZOFFSETTO:-0800
TZNAME:PST
DTSTART:20161106T090000
END:STANDARD
BEGIN:DAYLIGHT
TZOFFSETFROM:-0800
TZOFFSETTO:-0700
TZNAME:PDT
DTSTART:20170312T100000
END:DAYLIGHT
BEGIN:STANDARD
TZOFFSETFROM:-0700
TZOFFSETTO:-0800
TZNAME:PST
DTSTART:20171105T090000
END:STANDARD
END:VTIMEZONE
BEGIN:VEVENT
DTSTART;TZID=America/Vancouver:20170721T183000
DTEND;TZID=America/Vancouver:20170721T220000
DTSTAMP:20260421T135249
CREATED:20170710T210927Z
LAST-MODIFIED:20170711T045202Z
UID:33627-1500661800-1500674400@vancouver.foodiepulse.com
SUMMARY:Urban Vineyard Long Table Dinner @ Four Seasons Poolside
DESCRIPTION:A limited number of seats are available for our first ever\, public event on the Four Seasons Hotel Vancouver pool deck. Considered a hidden outdoor oasis\, the patio is nestled between the downtown cityscape with peek-a-boo views of mountains\, landmarks and open sky. This lush long table dinner features an urban vineyard theme – think warm summer nights\, twinkling lights and a delightful menu paired with wines from Le Vieux Pinand La Stella wineries in the South Okanagan. Make new friends and dine al fresco with this marvelous mid-summer menu. \n6:30pm – Cocktails (cash bar available) \n7:00pm – Dinner is Served \nFind out more about the menu and buy tickets here… \nEvent source: Eventbrite \n 
URL:https://vancouver.foodiepulse.com/event/urban-vineyard-long-table-dinner/
LOCATION:Four Seasons Hotel Vancouver\, 791 West Georgia Street\, Vancouver\, BC \, V6C 2V4\, Canada
CATEGORIES:Dinner Gala,Long Table Dinner,Restaurant Event,Showcase,Wine Pairing
ATTACH;FMTTYPE=image/jpeg:https://vancouver.foodiepulse.com/wp-content/uploads/2017/07/Urban-Vineyard-Long-Table-Dinner.jpg
END:VEVENT
BEGIN:VEVENT
DTSTART;TZID=America/Vancouver:20170717T140000
DTEND;TZID=America/Vancouver:20170717T143000
DTSTAMP:20260421T135249
CREATED:20170710T210144Z
LAST-MODIFIED:20170710T210144Z
UID:33623-1500300000-1500301800@vancouver.foodiepulse.com
SUMMARY:Modern Matcha Ceremony & Fine Matcha Tasting
DESCRIPTION:This 90-minute fine matcha tasting offers you one of a kind\, luxurious matcha experience sitting in a trendy café downtown Vancouver. During this workshop and tasting\, we will explore a variety of interesting matcha-related topics and facts. \nFind out more and buy tickets here \nEvent source: Eventbrite
URL:https://vancouver.foodiepulse.com/event/modern-matcha-ceremony-fine-matcha-tasting/
LOCATION:BC 
CATEGORIES:Coffee or Tea,Cooking Class,Seminar,Showcase
ATTACH;FMTTYPE=image/jpeg:https://vancouver.foodiepulse.com/wp-content/uploads/2017/07/Modern-Matcha-Ceremony-Fine-Matcha-Tasting.jpg
END:VEVENT
BEGIN:VEVENT
DTSTART;TZID=America/Vancouver:20170528T100000
DTEND;TZID=America/Vancouver:20170528T180000
DTSTAMP:20260421T135249
CREATED:20170517T054218Z
LAST-MODIFIED:20170517T054218Z
UID:22897-1495965600-1495994400@vancouver.foodiepulse.com
SUMMARY:Veg Expo 2017
DESCRIPTION:Veg Expo 2017 is featuring over 200+ local and international exhibitors promoting their edible and lifestyle products. In 2016 they broke the record for highest attended one day show at Canada Place reaching over 11\,000 enthusiasts. \nVeg Expo introduces new\, innovative\, inspiring products and services that you can implement into your lifestyle and meet others that share their passion.  \n There will be an interactive kid zone\, cooking demonstrations with local celebrated chefs\, information on locally sourced foods and products\, explore innovative sustainable transportation options on the market\, take a break in our ‘vegetation lounge’\, enjoy free samples and giveaways plus get inspired by a natural vegan body builder showcase. \nFind out more and buy tickets here…
URL:https://vancouver.foodiepulse.com/event/veg-expo-2017/
LOCATION:Vancouver Convention Centre\, 999 Canada Place\, Vancouver\, BC\, V6C 3T4\, Canada
CATEGORIES:Exhibition,Showcase,Vegetarian or Vegan
ATTACH;FMTTYPE=image/jpeg:https://vancouver.foodiepulse.com/wp-content/uploads/2017/05/veg-expo-17-e1494999603896.jpg
END:VEVENT
BEGIN:VEVENT
DTSTART;TZID=America/Vancouver:20170513T110000
DTEND;TZID=America/Vancouver:20170513T150000
DTSTAMP:20260421T135249
CREATED:20170330T230916Z
LAST-MODIFIED:20170503T174444Z
UID:22030-1494673200-1494687600@vancouver.foodiepulse.com
SUMMARY:Spot Prawn Festival 2017
DESCRIPTION:THE 11TH ANNUAL SPOT PRAWN FESTIVAL! \nThis year at the Spot Prawn Festival\, chefs from the Lower Mainland gather to serve you fresh-from-the-boat spot prawns. Tickets to the Spot Prawn Festival Boil are $17.50 each. All proceeds will support the Chefs’ Table Society of British Columbia. \nFind out more and buy tickets… \nEvent source: Eventbrite \n 
URL:https://vancouver.foodiepulse.com/event/spot-prawn-festival-2017/
LOCATION:granFalse Creek Fishermen’s Wharf\, 1505 West 1st Ave\, Vancouver\, BC\, V6J 1E8\, Canada
CATEGORIES:Beers | Wine | Spirits,Festival,Seafood,Showcase
ATTACH;FMTTYPE=image/jpeg:https://vancouver.foodiepulse.com/wp-content/uploads/2017/03/Spot-Prawn-Festival.jpg
END:VEVENT
BEGIN:VEVENT
DTSTART;TZID=America/Vancouver:20170413T183000
DTEND;TZID=America/Vancouver:20170413T230000
DTSTAMP:20260421T135249
CREATED:20170403T210151Z
LAST-MODIFIED:20170407T235638Z
UID:22090-1492108200-1492124400@vancouver.foodiepulse.com
SUMMARY:Origins of Wine: The Golden Mile Bench
DESCRIPTION:Origins of Wine: The Golden Mile Bench comes to Science World\, featuring a talk on the science behind the Okanagan Valley’s sub-Designated Viticultural Are and tastings from nine Golden Mile Bench wineries (Oliver\, BC) \nThis talk will feature Kurtis Kolt\, a Vancouver-based wine consultant and a panel of BC principal winemakers. For wine-food pairing\, there will be dishes prepared by Miradoro at Tinhorn Creek and Backyard Farm’s Chef’s Table\, two farm-to-table restaurants hailing from Oliver\, BC. \nFind out more and get tickets here… \nEvent source: Nosh and Nibble 
URL:https://vancouver.foodiepulse.com/event/origins-wine-golden-mile-bench/
LOCATION:TELUS World of Science\, 1455 Quebec Street\, Vancouver\, BC\, V6A3Z7\, Canada
CATEGORIES:Beers | Wine | Spirits,Featured,Seminar,Showcase,Wine Pairing
ATTACH;FMTTYPE=image/jpeg:https://vancouver.foodiepulse.com/wp-content/uploads/2017/04/origin-of-wine-e1491252940771.jpg
END:VEVENT
BEGIN:VEVENT
DTSTART;TZID=America/Vancouver:20170320T080000
DTEND;TZID=America/Vancouver:20170321T190000
DTSTAMP:20260421T135249
CREATED:20170317T210821Z
LAST-MODIFIED:20170317T211524Z
UID:21715-1489996800-1490122800@vancouver.foodiepulse.com
SUMMARY:Grocery & Specialty Food West Show (GSFW)
DESCRIPTION:The Grocery & Specialty Food West Show (GSFW)  returns on March 20-21 at Vancouver Convention Centre East. This year’s show is expected to attract more than 180 exhibitors and 2\,400 attendees from across Canada\, who have come to network\, identify new business opportunities and gain insight on this thriving business that influences household decisions each day. \nFind out more here… \nEvent source: Hello Vancity \n 
URL:https://vancouver.foodiepulse.com/event/grocery-specialty-food-west-show-gsfw/
LOCATION:Vancouver Convention Centre\, 999 Canada Place\, Vancouver\, BC\, V6C 3T4\, Canada
CATEGORIES:Exhibition,Showcase
ATTACH;FMTTYPE=image/jpeg:https://vancouver.foodiepulse.com/wp-content/uploads/2017/03/14b9319602731b11d1990ddb5ef39668d06a9701_convention-centre-angus-m-12-e1489784835692.jpg
END:VEVENT
BEGIN:VEVENT
DTSTART;TZID=America/Vancouver:20170310T200000
DTEND;TZID=America/Vancouver:20170310T230000
DTSTAMP:20260421T135249
CREATED:20170208T201125Z
LAST-MODIFIED:20170208T201254Z
UID:21273-1489176000-1489186800@vancouver.foodiepulse.com
SUMMARY:A Dram Come True - The World’s best Whiskies Meet the City’s Best Eats
DESCRIPTION:Sample unlimited drams of scotch\, gin and other spirits from distilleries from across the globe including Scotland\, Japan and India\, and speak to the experts behind each creation. Sip an array of wine and craft beer from across the province. Savour food samples from some of the city’s favourite restaurants and eateries. \n2017 Tasting Menu Preview: \n\nOdd Society Spirits’ brand new\, locally-distilled whisky\nGlenfarclas 15\, 17\, and 21 year\nSonoma Country: 2nd Chance Wheat Whiskey\, Rye Whisky\, Rye Whisky – Cask Strength\, West of Kentucky Bourbon No. 1\nThe Glenlivet Founder’s Reserve and French Oak Reserve 15 Year\nAberlour 12 year and A’bunadh\nScapa Skiren and Glansa\n\nFind out more and buy tickets here… \nEvent source: Eventbrite
URL:https://vancouver.foodiepulse.com/event/dram-come-true-worlds-best-whiskies-meet-citys-best-eats/
LOCATION:Performance Works\, 1218 Cartwright Street\, Vancouver\, BC\, V6H 3R8\, Canada
CATEGORIES:Beers | Wine | Spirits,Fund Raiser,Showcase
ATTACH;FMTTYPE=image/jpeg:https://vancouver.foodiepulse.com/wp-content/uploads/2017/02/a-dram-come-true.jpg
END:VEVENT
BEGIN:VEVENT
DTSTART;TZID=America/Vancouver:20170224T190000
DTEND;TZID=America/Vancouver:20170224T210000
DTSTAMP:20260421T135249
CREATED:20170208T044508Z
LAST-MODIFIED:20170208T044508Z
UID:21259-1487962800-1487970000@vancouver.foodiepulse.com
SUMMARY:Vancouver Magazine presents Best of the City
DESCRIPTION:Explore the Best of the City under one roof with this exclusive culinary experience. \nVancouver Magazine Restaurant Award winning chefs create one-of-a-kind dishes paired with the best wine and beer in the city. Best of the City welcomes food\, wine and beer enthusiasts to an evening that truly represents the best of Vancouver. \n2017 Restaurants: \n\nBao Bei\nBlue Water Cafe + Raw Bar\nBufala\nCactus Club\nCinCin\nHawksworth\nL’ufficio\nMaenam\nPrestons Restaurant + Lounge\nTableau Bar Bistro\n\nFind more info and buy tickets here… \nEvent source: Eventbrite
URL:https://vancouver.foodiepulse.com/event/vancouver-magazine-presents-best-city/
LOCATION:Coast Coal Harbour Hotel\, 1180 West Hastings Street\, Vancouver\, BC\, V6E 4R5\, Canada
CATEGORIES:Celebrity Chef Event,Showcase,Tasting and Sampling
ATTACH;FMTTYPE=image/jpeg:https://vancouver.foodiepulse.com/wp-content/uploads/2017/02/Best-of-the-City.jpg
END:VEVENT
BEGIN:VEVENT
DTSTART;TZID=America/Vancouver:20170218T130000
DTEND;TZID=America/Vancouver:20170218T200000
DTSTAMP:20260421T135249
CREATED:20170208T042002Z
LAST-MODIFIED:20170208T042002Z
UID:21240-1487422800-1487448000@vancouver.foodiepulse.com
SUMMARY:2017 Sunshine Coast Craft Beer Festival
DESCRIPTION:2017 Sunshine Coast Craft Beer Festival is presented by Persephone Brewing Co.\, and sponsored by the Sunshine Coast Credit Union and Gibsons Public Market\, the 2017 Sunshine Coast Craft Beer Festival showcases some of the finest craft beers and spirits in BC today and is our big winter fundraiser for the Sunshine Coast Association for Community Living (SCACL). There are 15 craft breweries\, one distillery and one cidery in a tasting style event. \nCheck out more info an buy tickets here… \nEvent source: Eventbrite
URL:https://vancouver.foodiepulse.com/event/2017-sunshine-coast-craft-beer-festival/
LOCATION:The Gibsons Public Market\, 473 Gower Point Road\, Gibsons\, BC\, V0N 1V0\, Canada
CATEGORIES:Beers | Wine | Spirits,Festival,Showcase,Tasting and Sampling
ATTACH;FMTTYPE=image/png:https://vancouver.foodiepulse.com/wp-content/uploads/2017/02/sunshine-coast-beer-fest.png
END:VEVENT
BEGIN:VEVENT
DTSTART;TZID=America/Vancouver:20170216T190000
DTEND;TZID=America/Vancouver:20170216T220000
DTSTAMP:20260421T135249
CREATED:20170201T204326Z
LAST-MODIFIED:20170201T204326Z
UID:21164-1487271600-1487282400@vancouver.foodiepulse.com
SUMMARY:International Festival Wine Tasting
DESCRIPTION:If you attend only one of the festival’s events\, make it an International Festival Tasting. The Tasting Room at the Vancouver Convention Centre is the heart of the festival\, where all participating wineries and their principals gather to pour their select wines. Discover exciting new wines\, or return to your favourites\, sipping from premium wine glasses. The room will also feature Regional Tasting Stations from Australia\, British Columbia\, New Zealand\, Nova Scotia and Spain\, as well as many wine and food-related exhibitors. \nThis year features the largest gathering of Canadian wineries ever at an international wine festival. Seventy-six wineries from British Columbia\, Ontario and Nova Scotia will be showing their reds and whites to help us celebrate the 150th anniversary of Confederation. \nMore info and buy tickets here…
URL:https://vancouver.foodiepulse.com/event/international-festival-wine-tasting/
LOCATION:Vancouver Convention Centre\, 999 Canada Place\, Vancouver\, BC\, V6C 3T4\, Canada
CATEGORIES:Beers | Wine | Spirits,Festival,Showcase,Tasting and Sampling
ATTACH;FMTTYPE=image/jpeg:https://vancouver.foodiepulse.com/wp-content/uploads/2017/02/wine-tasting-e1485981759710.jpg
END:VEVENT
BEGIN:VEVENT
DTSTART;TZID=America/Vancouver:20170209T200000
DTEND;TZID=America/Vancouver:20170209T235500
DTSTAMP:20260421T135249
CREATED:20170110T182218Z
LAST-MODIFIED:20170110T182218Z
UID:20901-1486670400-1486684500@vancouver.foodiepulse.com
SUMMARY:Science of Cocktails 2017
DESCRIPTION:Our Science of Cocktails signature fundraiser will transform Science World at TELUS World of Science into Vancouver’s largest laboratory\, where the city’s most talented bartenders and chefs will showcase the chemistry\, biology and physics behind preparing modern cocktails and cuisine. \nEach ticket includes complimentary cocktails from 20+ bar stations run by award-winning bartenders\, paired with 12 food stations featuring molecular gastronomy from local talent. You will also enjoy a variety of special cocktail science activities\, hands-on science demonstrations and classic Science World fun. \nTicket proceeds will support Science World’s Class Field Trips for underserved schools in Vancouver and the Lower Mainland. \nMore info and get tickets here… \nEvent source: https://www.facebook.com/events/131225134023464/
URL:https://vancouver.foodiepulse.com/event/science-cocktails-2017/
LOCATION:TELUS World of Science\, 1455 Quebec Street\, Vancouver\, BC\, V6A3Z7\, Canada
CATEGORIES:Beers | Wine | Spirits,Cocktails,Exhibition,Showcase,Tasting and Sampling
ATTACH;FMTTYPE=image/jpeg:https://vancouver.foodiepulse.com/wp-content/uploads/2017/01/15042153_10157743785290052_9174343109692702014_o-e1484072524784.jpg
END:VEVENT
BEGIN:VEVENT
DTSTART;TZID=America/Vancouver:20170125T173000
DTEND;TZID=America/Vancouver:20170125T220000
DTSTAMP:20260421T135249
CREATED:20170124T191949Z
LAST-MODIFIED:20170124T192037Z
UID:21081-1485365400-1485381600@vancouver.foodiepulse.com
SUMMARY:Art\, Eat & Sip Presented by Vancouver Foodster
DESCRIPTION:Get set for an extraordinary night of art\, eating and drinking on Granville Island. Following your “passport” as your guide\, visit resident artists\, local producers of beer and spirits\, and taste dishes from several of the island restaurants at some of Granville Island’s finest restaurants\, breweries and distilleries. Plus\, enjoy desserts from some of the Granville Island Market vendors inside the artist’s studios. \nIt’s for one night only and tickets will sell out\, so get yours today! \n*General Admission ticket includes food and beverage tastings\, resident artist tour. Gratuities not included. \nMore info and buy tickets here…
URL:https://vancouver.foodiepulse.com/event/art-eat-sip-presented-vancouver-foodster/
LOCATION:Granville Island Hotel\, 1253 Johnston Street\, Vancouver\, BC\, V6H 3R9\, Canada
CATEGORIES:Showcase,Tasting and Sampling,Tour
ATTACH;FMTTYPE=image/jpeg:https://vancouver.foodiepulse.com/wp-content/uploads/2017/01/ArtEatandSip-_480x240-NEW.jpg
END:VEVENT
BEGIN:VEVENT
DTSTART;TZID=America/Vancouver:20161219T173000
DTEND;TZID=America/Vancouver:20161219T213000
DTSTAMP:20260421T135249
CREATED:20161216T045902Z
LAST-MODIFIED:20161216T045931Z
UID:19946-1482168600-1482183000@vancouver.foodiepulse.com
SUMMARY:Taste of Bordeaux Wine Dinner
DESCRIPTION:Come and join this once in life experience of legendary wines of Bordeaux and gourmet food! \nVery limited seatings\, RSVP now and give no chance for regret! \nDavid Scholefield\, the honoured guest speaker\, will show you the culture and the beauty of Bordeaux wines. \nMore info and buy tickets here… \nEvent and image source: Eventbrite \n  \n 
URL:https://vancouver.foodiepulse.com/event/b/
LOCATION:Richmond Wine Lockers\, #1070-9111 Beckwith Road\, Richmond\, BC\, V6X1V7\, Canada
CATEGORIES:Beers | Wine | Spirits,Showcase,Wine Pairing
ATTACH;FMTTYPE=image/jpeg:https://vancouver.foodiepulse.com/wp-content/uploads/2016/12/bordeaux.jpg
ORGANIZER;CN="Winestain Club":MAILTO:kicktracy@hotmail.com
END:VEVENT
BEGIN:VEVENT
DTSTART;TZID=America/Vancouver:20161102T180000
DTEND;TZID=America/Vancouver:20161102T210000
DTSTAMP:20260421T135249
CREATED:20161005T000900Z
LAST-MODIFIED:20161005T000917Z
UID:17951-1478109600-1478120400@vancouver.foodiepulse.com
SUMMARY:From Boat to Table: The Sustainable Seafood Supply Chain - Food Talks Vol. 14
DESCRIPTION:Celebrating Ocean Wise Month\, the Vancouver Aquarium and Food Talks are offering a line-up of speakers who will talk about the sustainable seafood supply chain. It is a great opportunity to learn about how sustainable seafood gets from the fisherman’s boat to dinner table. There will be a Q & A session for discussion and mingle. \nWine and other beverages will be available for purchase until 7pm. \nHosted and moderated by Richard Wolak – Founder of Vancouver Foodster. \nMore info: http://www.vanaqua.org/boat-to-table \nBuy tickets here… \nNews source: Faceboook  \nImage source: Vancouver Aquarium
URL:https://vancouver.foodiepulse.com/event/boat-table-sustainable-seafood-supply-chain/
LOCATION:Vancouver Aquarium\, 845 Avison Way\, Vancouver\, BC\, V6G 3E2\, Canada
CATEGORIES:Seminar,Showcase,Social Event
ATTACH;FMTTYPE=image/jpeg:https://vancouver.foodiepulse.com/wp-content/uploads/2016/10/Salmon_seine_fishing_boat_Credit_Eric_Enno_Tam-e1475625921923.jpg
END:VEVENT
BEGIN:VEVENT
DTSTART;TZID=America/Vancouver:20161006T170000
DTEND;TZID=America/Vancouver:20161006T210000
DTSTAMP:20260421T135249
CREATED:20160929T000320Z
LAST-MODIFIED:20160929T000643Z
UID:17830-1475773200-1475787600@vancouver.foodiepulse.com
SUMMARY:An Evening In The Orchard by Sole Food Farms
DESCRIPTION:Come join a delicious farm-grown meal\, celebrate Michael Ableman’s new book  Street Farm: Growing Food\, Jobs & Hope on the Urban Frontier\, and help support the on-going work of Sole Food Farms. \n  \nMore info and buy tickets here… \nNews source: Eventbrite \nImage source: Sole Food Farms
URL:https://vancouver.foodiepulse.com/event/an-evening-in-the-orchard/
LOCATION:Sole Food’s Orchard\, Main & Terminal\, Vancouver\, BC\, Canada
CATEGORIES:Farm to Table,Fund Raiser,Showcase
ATTACH;FMTTYPE=image/jpeg:https://vancouver.foodiepulse.com/wp-content/uploads/2016/09/farm-e1475107575644.jpg
END:VEVENT
BEGIN:VEVENT
DTSTART;TZID=America/Vancouver:20161004T190000
DTEND;TZID=America/Vancouver:20161004T210000
DTSTAMP:20260421T135249
CREATED:20160902T035239Z
LAST-MODIFIED:20160902T035321Z
UID:17325-1475607600-1475614800@vancouver.foodiepulse.com
SUMMARY:BETA 5 Chocolate Demo @ EAT! Vancouver - SOLD OUT
DESCRIPTION:Adam Chandler is a pastry Chef\, a chocolatier and the co-owner of BETA5 who constantly looking to create inventive\, flavourful\, and visually stunning chocolates and pastries. He will presents 20 guests  idea of flavour pairing with chocolate\, and demonstrate making chocolate making. 
URL:https://vancouver.foodiepulse.com/event/beta-5-chocolate-demo-eat-vancouver-sold/
LOCATION:BC 
CATEGORIES:Celebrity Chef Event,Dessert,Festival,Showcase
ATTACH;FMTTYPE=image/jpeg:https://vancouver.foodiepulse.com/wp-content/uploads/2016/09/beta5-chocolate-e1472788088610.jpg
END:VEVENT
BEGIN:VEVENT
DTSTART;TZID=America/Vancouver:20160924T140000
DTEND;TZID=America/Vancouver:20160925T190000
DTSTAMP:20260421T135249
CREATED:20160921T001408Z
LAST-MODIFIED:20160921T001535Z
UID:17771-1474725600-1474830000@vancouver.foodiepulse.com
SUMMARY:The Bacon Convention @ The PNE
DESCRIPTION:Come to PNE Forum on September 24th & 25th\, for over 100 booths of bacon-covered/inspired food\, drink\, and products. And check out all the bacon-related events\, contests\,  door prizes\, activities\, raffles and much more! \nMore detials: thebaconcon.com \nBuy tickets here… \nEvent source: DailyHive
URL:https://vancouver.foodiepulse.com/event/bacon-convention-pne/
LOCATION:PNE\, 2901 East Hastings St.\,  Vancouver
CATEGORIES:Exhibition,Featured,Festival,Market,Showcase
ATTACH;FMTTYPE=image/jpeg:https://vancouver.foodiepulse.com/wp-content/uploads/2016/09/image-86-e1474416783356.jpeg
END:VEVENT
END:VCALENDAR